BEGIN:VCALENDAR
VERSION:2.0
PRODID:-//AccesSurf Hawaii Nonprofit - ECPv6.15.20//NONSGML v1.0//EN
CALSCALE:GREGORIAN
METHOD:PUBLISH
X-ORIGINAL-URL:https://www.accessurf.org
X-WR-CALDESC:Events for AccesSurf Hawaii Nonprofit
REFRESH-INTERVAL;VALUE=DURATION:PT1H
X-Robots-Tag:noindex
X-PUBLISHED-TTL:PT1H
BEGIN:VTIMEZONE
TZID:Pacific/Honolulu
BEGIN:STANDARD
TZOFFSETFROM:-1000
TZOFFSETTO:-1000
TZNAME:HST
DTSTART:20250101T000000
END:STANDARD
END:VTIMEZONE
BEGIN:VEVENT
DTSTART;TZID=Pacific/Honolulu:20260604T173000
DTEND;TZID=Pacific/Honolulu:20260604T183000
DTSTAMP:20260423T142152
CREATED:20251223T031822Z
LAST-MODIFIED:20251223T031825Z
UID:10000918-1780594200-1780597800@www.accessurf.org
SUMMARY:2026 June New Volunteer Virtual Training
DESCRIPTION:
URL:https://www.accessurf.org/event/2026-june-new-volunteer-virtual-training/
CATEGORIES:Training
ATTACH;FMTTYPE=image/png:https://www.accessurf.org/wp-content/uploads/2023/12/new-volunteer-training-flyer.png
END:VEVENT
END:VCALENDAR