BEGIN:VCALENDAR
VERSION:2.0
PRODID:-//AccesSurf Hawaii Nonprofit - ECPv6.15.20//NONSGML v1.0//EN
CALSCALE:GREGORIAN
METHOD:PUBLISH
X-ORIGINAL-URL:https://www.accessurf.org
X-WR-CALDESC:Events for AccesSurf Hawaii Nonprofit
REFRESH-INTERVAL;VALUE=DURATION:PT1H
X-Robots-Tag:noindex
X-PUBLISHED-TTL:PT1H
BEGIN:VTIMEZONE
TZID:Pacific/Honolulu
BEGIN:STANDARD
TZOFFSETFROM:-1000
TZOFFSETTO:-1000
TZNAME:HST
DTSTART:20240101T000000
END:STANDARD
END:VTIMEZONE
BEGIN:VEVENT
DTSTART;TZID=Pacific/Honolulu:20250227T173000
DTEND;TZID=Pacific/Honolulu:20250227T183000
DTSTAMP:20260424T135054
CREATED:20250210T211550Z
LAST-MODIFIED:20250210T211550Z
UID:10000849-1740677400-1740681000@www.accessurf.org
SUMMARY:New Volunteer Virtual Training
DESCRIPTION:We’re looking forward to you joining our community! If you are a new volunteer\, we ask that you attend one of our New Volunteer Virtual Trainings. \nClick here for the Training Zoom link: \nhttps://us06web.zoom.us/j/84866919200?pwd=ck9PWUp3QXdEcDFkTjdmcDkreDVJQT09
URL:https://www.accessurf.org/event/new-volunteer-virtual-training-12/
CATEGORIES:Training
ATTACH;FMTTYPE=image/png:https://www.accessurf.org/wp-content/uploads/2023/12/new-volunteer-training-flyer.png
END:VEVENT
END:VCALENDAR