BEGIN:VCALENDAR
VERSION:2.0
PRODID:-//AccesSurf Hawaii Nonprofit - ECPv6.15.20//NONSGML v1.0//EN
CALSCALE:GREGORIAN
METHOD:PUBLISH
X-WR-CALNAME:AccesSurf Hawaii Nonprofit
X-ORIGINAL-URL:https://www.accessurf.org
X-WR-CALDESC:Events for AccesSurf Hawaii Nonprofit
REFRESH-INTERVAL;VALUE=DURATION:PT1H
X-Robots-Tag:noindex
X-PUBLISHED-TTL:PT1H
BEGIN:VTIMEZONE
TZID:Pacific/Honolulu
BEGIN:STANDARD
TZOFFSETFROM:-1000
TZOFFSETTO:-1000
TZNAME:HST
DTSTART:20140101T000000
END:STANDARD
END:VTIMEZONE
BEGIN:VEVENT
DTSTART;TZID=Pacific/Honolulu:20150513T080000
DTEND;TZID=Pacific/Honolulu:20150513T170000
DTSTAMP:20260422T212436
CREATED:20150513T042050Z
LAST-MODIFIED:20240813T025807Z
UID:10000026-1431504000-1431536400@www.accessurf.org
SUMMARY:2015 AccesSurf Adaptive Surf Competition
DESCRIPTION:It’s on! Dates are set! Let the games begin!  \nAugust 25\,26\,27  AccesSurf Adaptive Surf Competition \nQueens\, Waikiki \nRegistration is open until July 31st. First come first serve. \nWe are working on the forms right now so please contact Cara for information cara@accessurf.org \nDivisions: \nMen’s and Women’s Sit\, Stand\, Prone\, Assisted\, Deaf\, Wounded Warrior and Expression Session \n$50 registration includes 1st\,2nd and 3rd place trophies\, event t-shirt\, access to the event tent and invitation to the AccesSurf Athlete Pau Hana at the Hard Rock Cafe
URL:https://www.accessurf.org/event/3070/
CATEGORIES:Hawaii Adaptive Surfing Championships
ATTACH;FMTTYPE=image/png:https://www.accessurf.org/wp-content/uploads/2015/04/DukesFlier_2015-copy-adjusted.png
END:VEVENT
END:VCALENDAR